BEGIN:VCALENDAR
VERSION:2.0
PRODID:Events Booking
BEGIN:VEVENT
UID:69e73d478247f
SUMMARY:Concours interne IP Nature (Jugement des photos)
DESCRIPTION:Jugement des photos
 
DTSTART:20250919T060000Z
DTEND:20250921T213000Z
DTSTAMP:20260421T110303Z
ORGANIZER;CN=Photophiles de Villennes:MAILTO:  annepetitphotophiles@gmail.c
 om
END:VEVENT
END:VCALENDAR