BEGIN:VCALENDAR
VERSION:2.0
PRODID:Events Booking
BEGIN:VEVENT
UID:69e5eda957a48
SUMMARY:Atelier « Nature »
DESCRIPTION:Atelier Nature
 
DTSTART:20260304T193000Z
DTEND:20260304T220000Z
DTSTAMP:20250912T095232Z
ORGANIZER;CN=Photophiles de Villennes:MAILTO:  annepetitphotophiles@gmail.c
 om
END:VEVENT
END:VCALENDAR