BEGIN:VCALENDAR
VERSION:2.0
PRODID:Events Booking
BEGIN:VEVENT
UID:69e504ed7111d
SUMMARY:Présentation d'Images
DESCRIPTION:Concours interne IP
 Vous pouvez télécharger jusqu'à 4 phot
 os sur le site.
 N'oubliez pas de mettre vos photos au bon format 3 840x2
  160 pixels en sRGB.
DTSTART:20260421T183000Z
DTEND:20260421T203000Z
DTSTAMP:20251208T095448Z
ORGANIZER;CN=Photophiles de Villennes:MAILTO:  annepetitphotophiles@gmail.c
 om
END:VEVENT
END:VCALENDAR